BEGIN:VCALENDAR
VERSION:2.0
PRODID:-//Plone.org//NONSGML plone.app.event//EN
X-WR-TIMEZONE:Europe/Berlin
BEGIN:VEVENT
SUMMARY:10. Forum Klimaökonomie
DTSTART;TZID=Europe/Berlin;VALUE=DATE-TIME:20211122T143000
DTEND;TZID=Europe/Berlin;VALUE=DATE-TIME:20211123T093000
DTSTAMP;VALUE=DATE-TIME:20260423T214243Z
UID:e132dc70b53d43b88564a2de099f838f@localhost:8083
ATTENDEE;CN="auf Einladung";ROLE=REQ-PARTICIPANT:auf Einladung
CREATED;VALUE=DATE-TIME:20211112T102243Z
DESCRIPTION:Versicherung von Klimaschäden- zwischen privater Vorsorge und
  staatlicher Intervention\n22 November Berlin\nhttps://www.klimadialog.de/
LAST-MODIFIED;VALUE=DATE-TIME:20220516T075503Z
URL:https://rochade-project.org/de/neuigkeiten/events-folder/forum-climate
 -economics-10
END:VEVENT
BEGIN:VTIMEZONE
TZID:Europe/Berlin
X-LIC-LOCATION:Europe/Berlin
BEGIN:STANDARD
DTSTART;VALUE=DATE-TIME:20211031T020000
TZNAME:CET
TZOFFSETFROM:+0200
TZOFFSETTO:+0100
END:STANDARD
END:VTIMEZONE
END:VCALENDAR
