BEGIN:VCALENDAR
VERSION:2.0
PRODID:-//Plone.org//NONSGML plone.app.event//EN
X-WR-TIMEZONE:Europe/Berlin
BEGIN:VEVENT
SUMMARY:Forum Climate Economics 7
DTSTART;VALUE=DATE:20201012
DTEND;VALUE=DATE:20201013
DTSTAMP;VALUE=DATE-TIME:20260423T201932Z
UID:ad91bfbdcc3c4a23927700a12b5ecb44@localhost:8083
ATTENDEE;CN=" ";ROLE=REQ-PARTICIPANT: 
CATEGORIES:content
CONTACT:Klimaforum@ifw-kiel.de\, Klimaforum@ifw-kiel.de
CREATED;VALUE=DATE-TIME:20200310T113902Z
DESCRIPTION:Fossil Phase-out and Just Transformation
LAST-MODIFIED;VALUE=DATE-TIME:20211112T110229Z
LOCATION:Berlin\, Kalkscheune\, Johannisstr. 2
URL:https://rochade-project.org/de/neuigkeiten/events-folder/eventim
END:VEVENT
END:VCALENDAR
